BEGIN:VCALENDAR
VERSION:2.0
PRODID:-//ExpressionEngine Easy iCalendar plugin//NONSGML v2.0.0//EN
X-WR-TIMEZONE:Pacific/Auckland
X-WR-CALNAME:Upcoming Auctions
BEGIN:VEVENT
UID:132751
DTSTAMP:20250523T170000
DTSTART:20250523T170000
DTEND:20250605T180000
SUMMARY:Police & Others Auction 5.6.25 TH132751
LOCATION:50 Fairfax Ave\, Penrose\, Auckland\, AK 2105\, NZ
DESCRIPTION:Bidding open now! What’s Up for Grabs? Cutting-edge tech a
 nd smartphones to keep you connected. Reliable tools to tack
 le any project. Sporting goods for your next big adventure. 
 Bicycles ready to hit the road or trails. And so much more! 
 Onsite viewing on the day of Auction A selection of items w
 ill be ready to view online and bid on over the weekend prio
 r.
URL:https://www.thorntons.net.nz/auctions/detail/bw132751
SEQUENCE:1
END:VEVENT
END:VCALENDAR