BEGIN:VCALENDAR
VERSION:2.0
PRODID:-//ExpressionEngine Easy iCalendar plugin//NONSGML v2.0.0//EN
X-WR-TIMEZONE:Pacific/Auckland
X-WR-CALNAME:Upcoming Auctions
BEGIN:VEVENT
UID:132753
DTSTAMP:20250605T170000
DTSTART:20250605T170000
DTEND:20250612T180000
SUMMARY:Alcohol & General Goods Auction 12.6.25 TH132753
LOCATION:Thornton Auctions - 50 Fairfax Avenue\, Penrose\, Auckland\, AK
  1060\, NZ
DESCRIPTION:Don't miss this general goods auction with plenty of plonk\, 
 toys\, furniture\, electronics\, clothing and other goods. Regi
 ster now. On-site viewing on the day of the auction closing 
 in our auction rooms – June 12th.
URL:https://www.thorntons.net.nz/auctions/detail/bw132753
SEQUENCE:1
END:VEVENT
END:VCALENDAR