BEGIN:VCALENDAR
VERSION:2.0
PRODID:-//ExpressionEngine Easy iCalendar plugin//NONSGML v2.0.0//EN
X-WR-TIMEZONE:Pacific/Auckland
X-WR-CALNAME:Upcoming Auctions
BEGIN:VEVENT
UID:132754
DTSTAMP:20250616T170000
DTSTART:20250616T170000
DTEND:20250618T180000
SUMMARY:Police & Others Auction 18.6.25 TH132754
LOCATION:Thornton Auctions - 50 Fairfax Avenue\, Penrose\, Auckland\, AK
  1060\, NZ
DESCRIPTION:Police Auction - Matariki Edition (Note the Wednesday night 
 close) Loads of tech\, jewellery\, toys\, tools\, clothing\, and 
 more.
URL:https://www.thorntons.net.nz/auctions/detail/bw132754
SEQUENCE:1
END:VEVENT
END:VCALENDAR