BEGIN:VCALENDAR
VERSION:2.0
PRODID:-//ExpressionEngine Easy iCalendar plugin//NONSGML v2.0.0//EN
X-WR-TIMEZONE:Pacific/Auckland
X-WR-CALNAME:Upcoming Auctions
BEGIN:VEVENT
UID:132755
DTSTAMP:20250620T130000
DTSTART:20250620T130000
DTEND:20250624T180000
SUMMARY:Clothing & General Goods Auction 24.6.25 TU132755
LOCATION:Thornton Auctions - 50 Fairfax Avenue\, Penrose\, Auckland\, AK
  1060\, NZ
DESCRIPTION:Join us for our fantastic fabric fiesta with suits and dress
 es for the ball season\, footwear for both the young and old\,
  ties\, winter lines\, summer run-out favourites\, and much mor
 e! Every day\, labels to designer brands—all for bargain bi
 dding. Come in and view the items to make sure they're perfe
 ct for you—we're open Monday and Tuesday this week (the au
 ction closes Tuesday night form 6pm). Plus plenty of other g
 reat general goods\, including new products that must be clea
 red\, plus food and beverages\, toys\, trinkets\, household good
 s\, whiteware\, DIY\, and plenty more on offer in this General 
 Goods Auction
URL:https://www.thorntons.net.nz/auctions/detail/bw132755
SEQUENCE:1
END:VEVENT
END:VCALENDAR