BEGIN:VCALENDAR
VERSION:2.0
PRODID:-//ExpressionEngine Easy iCalendar plugin//NONSGML v2.0.0//EN
X-WR-TIMEZONE:Pacific/Auckland
X-WR-CALNAME:Upcoming Auctions
BEGIN:VEVENT
UID:132757
DTSTAMP:20250625T120000
DTSTART:20250625T120000
DTEND:20250626T120000
SUMMARY:Aviation Auction 25.6.25 WE132757
LOCATION:487 Airfield Road\, Ardmore Aiport\, Papakura\, Auckland\, AK 25
 82\, NZ
DESCRIPTION:This is an auction for a BK117 main transmission. Auction op
 ens: Midday 25 June 2025 Auction closes: Midday 26 June 2025
  (subject to auto extension) All bidders must be registered 
 to bid and must complete all “know your customer” requir
 ements of both Thornton Auctions Ltd and the seller\, includ
 ing completing end-user/end-use certification as to the loca
 tion and identity of the ultimate end user.   The goods are
  subject to export restrictions under New Zealand and United
  States law.   Prior to submitting a bid\, bidders must ensu
 re that the goods can be exported to any applicable jurisdic
 tion. Thorntons' conditions of sale will apply\, provided tha
 t no Buyer’s Premium will apply.   Goods and Services Tax
  will apply to the sale but may be zero-rated if the goods a
 re exported immediately after purchase. The goods will be de
 livered to the successful bidder at the seller’s premises 
 at 487 Airfield Road\, Ardmore Airport\, Papakura.  The appro
 ved winning bidder will be responsible for all transport cos
 ts.  
URL:https://www.thorntons.net.nz/auctions/detail/bw132757
SEQUENCE:1
END:VEVENT
END:VCALENDAR