BEGIN:VCALENDAR
VERSION:2.0
PRODID:-//ExpressionEngine Easy iCalendar plugin//NONSGML v2.0.0//EN
X-WR-TIMEZONE:Pacific/Auckland
X-WR-CALNAME:Upcoming Auctions
BEGIN:VEVENT
UID:132785
DTSTAMP:20250625T170000
DTSTART:20250625T170000
DTEND:20250703T180000
SUMMARY:Police & Others Auction 3.7.25 TH132785
LOCATION:Thornton Auctions - 50 Fairfax Avenue\, Penrose\, Auckland\, AK
  1060\, NZ
DESCRIPTION:It's all online—bid now & view onsite on Auction Closing D
 ay—Thursday\, July 3rd Loads of tech\, plenty of jewellery\,
  toys\, tools\, clothing\, and more.
URL:https://www.thorntons.net.nz/auctions/detail/bw132785
SEQUENCE:1
END:VEVENT
END:VCALENDAR