BEGIN:VCALENDAR
VERSION:2.0
PRODID:-//ExpressionEngine Easy iCalendar plugin//NONSGML v2.0.0//EN
X-WR-TIMEZONE:Pacific/Auckland
X-WR-CALNAME:Upcoming Auctions
BEGIN:VEVENT
UID:132786
DTSTAMP:20250628T170000
DTSTART:20250628T170000
DTEND:20250708T180000
SUMMARY:Alcohol & General Goods Auction 8.7.25 TU132786
LOCATION:Thornton Auctions - 50 Fairfax Avenue\, Penrose\, Auckland\, AK
  1060\, NZ
DESCRIPTION:A few tasty tempters are online now... with many more to com
 e! Don't miss this general goods auction with plenty of plon
 k\, toys\, furniture\, electronics\, clothing\, and other goods. 
 Register now. On-site viewing days are Thursdays and Fridays
 . 
URL:https://www.thorntons.net.nz/auctions/detail/bw132786
SEQUENCE:1
END:VEVENT
END:VCALENDAR