BEGIN:VCALENDAR
VERSION:2.0
PRODID:-//ExpressionEngine Easy iCalendar plugin//NONSGML v2.0.0//EN
X-WR-TIMEZONE:Pacific/Auckland
X-WR-CALNAME:Upcoming Auctions
BEGIN:VEVENT
UID:132789
DTSTAMP:20250711T170000
DTSTART:20250711T170000
DTEND:20250717T180000
SUMMARY:Police & Others Auction 17.7.25 TH132789
LOCATION:Thornton Auctions - 50 Fairfax Avenue\, Penrose\, Auckland\, AK
  1060\, NZ
DESCRIPTION:Everything is up and running. - Join us in our bi-monthly Po
 lice & Others Auction! There's always loads of tech\, plenty 
 of jewellery\, toys\, tools\, clothing\, and more. Viewing is at
  our auction house and available on the day of the auction (
 This Thursday).
URL:https://www.thorntons.net.nz/auctions/detail/bw132789
SEQUENCE:1
END:VEVENT
END:VCALENDAR