BEGIN:VCALENDAR
VERSION:2.0
PRODID:-//ExpressionEngine Easy iCalendar plugin//NONSGML v2.0.0//EN
X-WR-TIMEZONE:Pacific/Auckland
X-WR-CALNAME:Upcoming Auctions
BEGIN:VEVENT
UID:132791
DTSTAMP:20250722T180000
DTSTART:20250722T180000
DTEND:20250724T180000
SUMMARY:48 hour Tools & Tradie Auction 24.7.25 - TH132791
LOCATION:50 Fairfax Ave\, Penrose\, Auckland\, AU 2105\, NZ
DESCRIPTION:Tool time! This 48-hour auction is open now and closes Thurs
 day night 6pm Power tools\, nuts and bolts\, workbenches\, gard
 ening tools\, hand tools—the list goes on and on! Viewing w
 ill be available in our auction rooms on the day the auction
  closes. (Thursday\, July 24th - from 6pm)
URL:https://www.thorntons.net.nz/auctions/detail/bw132791
SEQUENCE:1
END:VEVENT
END:VCALENDAR