BEGIN:VCALENDAR
VERSION:2.0
PRODID:-//ExpressionEngine Easy iCalendar plugin//NONSGML v2.0.0//EN
X-WR-TIMEZONE:Pacific/Auckland
X-WR-CALNAME:Upcoming Auctions
BEGIN:VEVENT
UID:132796
DTSTAMP:20250712T070500
DTSTART:20250712T070500
DTEND:20250729T180000
SUMMARY:Audio Auction 29.7.25 TU132796
LOCATION: 36A Crummer Road\, Grey Lynn\, Auckland\, AK 1021\, NZ
DESCRIPTION:Livesound\, a long-established Auckland audio supplier\, has t
 o move new and repaired audio products to make way for new s
 tock. Amplifiers\, parts\, mixing desks\, cabling\, and speakers
  are all quality—all must sell. This is an online timed au
 ction\, with freighting options available. Viewing On the day
  the auction closes\, from 10am to 2pm (29/7/2025) at 36A Cr
 ummer Road\, Grey Lynn\, Auckland. Collection Thursday\, 31st J
 uly / Friday\, 1st August\, 9am-4:30pm via online booking
URL:https://www.thorntons.net.nz/auctions/detail/bw132796
SEQUENCE:1
END:VEVENT
END:VCALENDAR