BEGIN:VCALENDAR
VERSION:2.0
PRODID:-//ExpressionEngine Easy iCalendar plugin//NONSGML v2.0.0//EN
X-WR-TIMEZONE:Pacific/Auckland
X-WR-CALNAME:Upcoming Auctions
BEGIN:VEVENT
UID:132802
DTSTAMP:20250807T165100
DTSTART:20250807T165100
DTEND:20250814T180000
SUMMARY:Tools & Tradie Auction 14.8.25 - TH132802
LOCATION:50 Fairfax Ave\, Penrose\, Auckland\, AU 2105\, NZ
DESCRIPTION:Tool Time Auction – DIY & Trade Essentials!  Get ready fo
 r a powerhouse lineup in this tools auction\, featuring a wid
 e range of new and quality second-hand tools perfect for DIY
  enthusiasts and trade professionals alike. From drills and 
 saws to workshop gear and hand tools\, there’s something fo
 r every project and budget. Whether you're upgrading your ki
 t or just starting out\, this is your chance to score top bra
 nds at unbeatable prices. Register now to bid and be first i
 n line for the best deals. VIEWING – Friday\, August 8th 
 AND Thursday\, August 14th\, from our auction house  Spread 
 the word—tell your mates\, your crew\, and anyone who loves 
 a good bargain! Let’s build something great—starting wit
 h your toolbox.
URL:https://www.thorntons.net.nz/auctions/detail/bw132802
SEQUENCE:1
END:VEVENT
END:VCALENDAR