BEGIN:VCALENDAR
VERSION:2.0
PRODID:-//ExpressionEngine Easy iCalendar plugin//NONSGML v2.0.0//EN
X-WR-TIMEZONE:Pacific/Auckland
X-WR-CALNAME:Upcoming Auctions
BEGIN:VEVENT
UID:132811
DTSTAMP:20250815T180000
DTSTART:20250815T180000
DTEND:20250821T180000
SUMMARY:Police & Others Auction 21.08.2025 TH132811
LOCATION:Thornton Auctions - 50 Fairfax Avenue\, Penrose\, Auckland\, AK
  1060\, NZ
DESCRIPTION:Join us in our bi-monthly Police & Others Auction! There's a
 lways loads of tech\, plenty of jewellery\, toys\, tools\, cloth
 ing\, and more. Register now\, and we'll send you a message on
 ce it's 100% live! Viewing is at our auction house and avail
 able on the day of the auction.
URL:https://www.thorntons.net.nz/auctions/detail/bw132811
SEQUENCE:1
END:VEVENT
END:VCALENDAR