BEGIN:VCALENDAR
VERSION:2.0
PRODID:-//ExpressionEngine Easy iCalendar plugin//NONSGML v2.0.0//EN
X-WR-TIMEZONE:Pacific/Auckland
X-WR-CALNAME:Upcoming Auctions
BEGIN:VEVENT
UID:132812
DTSTAMP:20250801T170000
DTSTART:20250801T170000
DTEND:20250807T180000
SUMMARY:Police & Others Auction 7.8.25 TH132812
LOCATION:Thornton Auctions - 50 Fairfax Avenue\, Penrose\, Auckland\, AK
  1060\, NZ
DESCRIPTION:Loads of tech\, plenty of jewellery\, toys\, tools\, clothing\, a
 nd more. Viewing is at our auction house and available on th
 e day of the auction. (Thursday)
URL:https://www.thorntons.net.nz/auctions/detail/bw132812
SEQUENCE:1
END:VEVENT
END:VCALENDAR