BEGIN:VCALENDAR
VERSION:2.0
PRODID:-//ExpressionEngine Easy iCalendar plugin//NONSGML v2.0.0//EN
X-WR-TIMEZONE:Pacific/Auckland
X-WR-CALNAME:Upcoming Auctions
BEGIN:VEVENT
UID:132814
DTSTAMP:20250725T180000
DTSTART:20250725T180000
DTEND:20250731T180000
SUMMARY:General Goods Auction 31.7.25 TH132814
LOCATION:Thornton Auctions - 50 Fairfax Avenue\, Penrose\, Auckland\, AK
  1060\, NZ
DESCRIPTION:New products that must be cleared included plus food and be
 verages\, toys\, trinkets\, household goods\, whiteware\, DIY and
  plenty more on offer in this General Goods Auction
URL:https://www.thorntons.net.nz/auctions/detail/bw132814
SEQUENCE:1
END:VEVENT
END:VCALENDAR