BEGIN:VCALENDAR
VERSION:2.0
PRODID:-//ExpressionEngine Easy iCalendar plugin//NONSGML v2.0.0//EN
X-WR-TIMEZONE:Pacific/Auckland
X-WR-CALNAME:Upcoming Auctions
BEGIN:VEVENT
UID:132832
DTSTAMP:20250828T180000
DTSTART:20250828T180000
DTEND:20250903T180000
SUMMARY:Clothing Auction 3.9.25 TU132832
LOCATION:50 Fairfax Avenue\, Penrose\, Auckland\, AK 1061\, NZ
DESCRIPTION:Bid in on our online clothing deparment store! Plenty of bid
 ding bargains in the following catagories. From Lot 1 - Main
 ly Maternity From Lot 290 - Fantastic Female Fashions From L
 ot 373 - Safety & Warehouse Workwear From Lot 533 - Mens Su
 its\,Formal & General Fashions Join us for our fantastic fabr
 ic fiesta with suits and dresses for the ball season\, footwe
 ar for both the young and old\, ties\, winter lines\, summer ru
 n-out favourites\, and much more! Every day labels to designe
 r brands—all for bargain bidding. Register & Bid Now! VIEW
 ING THURSDAY / FRIDAY & WE'RE OPENING THE SHOWROOM FOR A ONE
  OFF WEDNESDAY TOO!
URL:https://www.thorntons.net.nz/auctions/detail/bw132832
SEQUENCE:1
END:VEVENT
END:VCALENDAR