BEGIN:VCALENDAR
VERSION:2.0
PRODID:-//ExpressionEngine Easy iCalendar plugin//NONSGML v2.0.0//EN
X-WR-TIMEZONE:Pacific/Auckland
X-WR-CALNAME:Upcoming Auctions
BEGIN:VEVENT
UID:132836
DTSTAMP:20250922T110000
DTSTART:20250922T110000
DTEND:20250922T120000
SUMMARY:Movie Set Shutdown Auction 22.09.25 MO132836
LOCATION:35 Keeling Road\, Henderson\, Auckland 0612\, Auckland\, AK 0612
 \, NZ
DESCRIPTION:Onsite viewings in Henderson Wednesday 17th - Friday 19th Se
 ptember 10a-3p & on Monday 22nd from 9am until auction time.
  Authenticity Meets Impact—No Ordinary Auction This auctio
 n isn't just props! Step into the aftermath of high-octane d
 estruction with this exclusive asset auction featuring props
 \, gear\, and set pieces straight from this recently wrapped N
 Z-filmed international blockbuster movie. !! Standout Featur
 e: A Full-Scale Helicopter !! In addition to household items
 \, the auction includes standout assets such as a genuine hel
 icopter—an extraordinary opportunity for collectors or avi
 ation enthusiasts. With everything from rugged props to refi
 ned furnishings\, this auction brings together the practical 
 and the cinematic.  Whether you're furnishing a space or cu
 rating a collection\, these pieces offer a rare blend of func
 tionality and screen-used authenticity. Register now so you 
 don’t miss your chance to own a piece of production histor
 y that’s as versatile as it is memorable.    
URL:https://www.thorntons.net.nz/auctions/detail/bw132836
SEQUENCE:1
END:VEVENT
END:VCALENDAR