BEGIN:VCALENDAR
VERSION:2.0
PRODID:-//ExpressionEngine Easy iCalendar plugin//NONSGML v2.0.0//EN
X-WR-TIMEZONE:Pacific/Auckland
X-WR-CALNAME:Upcoming Auctions
BEGIN:VEVENT
UID:132849
DTSTAMP:20250828T180000
DTSTART:20250828T180000
DTEND:20250902T180000
SUMMARY:General Goods Auction 2.9.25 TU132849
LOCATION:Thornton Auctions - 50 Fairfax Avenue\, Penrose\, Auckland\, AK
  1060\, NZ
DESCRIPTION:Kids’ electric rides\, housewares\, beauty & health gear\, pe
 t must-haves\, computing tech\, DIY tools—and heaps more.
URL:https://www.thorntons.net.nz/auctions/detail/bw132849
SEQUENCE:1
END:VEVENT
END:VCALENDAR