BEGIN:VCALENDAR
VERSION:2.0
PRODID:-//ExpressionEngine Easy iCalendar plugin//NONSGML v2.0.0//EN
X-WR-TIMEZONE:Pacific/Auckland
X-WR-CALNAME:Upcoming Auctions
BEGIN:VEVENT
UID:132853
DTSTAMP:20250829T170000
DTSTART:20250829T170000
DTEND:20250904T180000
SUMMARY:Police & Others Auction 4.9.2025 TH132853
LOCATION:Thornton Auctions - 50 Fairfax Avenue\, Penrose\, Auckland\, AK
  1060\, NZ
DESCRIPTION:Join us in our bi-monthly Police & Others Auction! There's a
 lways loads of tech\, plenty of jewellery\, toys\, tools\, cloth
 ing\, and more. Viewing is at our auction house and available
  on the day of the auction (Thursday).
URL:https://www.thorntons.net.nz/auctions/detail/bw132853
SEQUENCE:1
END:VEVENT
END:VCALENDAR