BEGIN:VCALENDAR
VERSION:2.0
PRODID:-//ExpressionEngine Easy iCalendar plugin//NONSGML v2.0.0//EN
X-WR-TIMEZONE:Pacific/Auckland
X-WR-CALNAME:Upcoming Auctions
BEGIN:VEVENT
UID:132854
DTSTAMP:20250918T170000
DTSTART:20250918T170000
DTEND:20250925T180000
SUMMARY:Damaged Freight Auction 25.9.25 TH132854
LOCATION:Thornton Auctions - 50 Fairfax Avenue\, Penrose\, Auckland\, AK
  1060\, NZ
DESCRIPTION:In life\, sometimes things go wrong. Packaging gets ripped\, a
 n item is dropped\, something gets wet\, marked\, scratched\, de
 nted—or simply written off. Welcome to our Damaged Freight
  Auction. We’re clearing a wide range of goods including: 
 Quality hospitality equipment\, kitchen gear\, whiteware\, \, D
 IY items\, bathroom vanities\, food goods\, commercial stock\, a
 nd electronics are all included. Many items are as‑new\, wi
 th some second‑hand goods also available. All items must b
 e cleared. Fully loaded - lets get bidding! On‑Site Viewin
 g Recommended We strongly encourage inspection in person at 
 our auction rooms at 50 Fairfax Ave\, Penrose\, viewings are M
 arch 12 and 13th. Viewing for this auction is highly recomme
 nded.
URL:https://www.thorntons.net.nz/auctions/detail/bw132854
SEQUENCE:1
END:VEVENT
END:VCALENDAR