BEGIN:VCALENDAR
VERSION:2.0
PRODID:-//ExpressionEngine Easy iCalendar plugin//NONSGML v2.0.0//EN
X-WR-TIMEZONE:Pacific/Auckland
X-WR-CALNAME:Upcoming Auctions
BEGIN:VEVENT
UID:132859
DTSTAMP:20250911T170000
DTSTART:20250911T170000
DTEND:20250916T180000
SUMMARY:Alcohol & General Goods Auction 16.9.25 TU132859
LOCATION:Thornton Auctions - 50 Fairfax Avenue\, Penrose\, Auckland\, AK
  1060\, NZ
DESCRIPTION:General Goods Auction – Must-Clear Stock! Plenty of plonk 
 plus new & used products up for grabs: food & beverages\, toy
 s\, trinkets\, household items\, whiteware\, DIY gear and loads 
 more. Everything must go—don’t miss out!
URL:https://www.thorntons.net.nz/auctions/detail/bw132859
SEQUENCE:1
END:VEVENT
END:VCALENDAR