BEGIN:VCALENDAR
VERSION:2.0
PRODID:-//ExpressionEngine Easy iCalendar plugin//NONSGML v2.0.0//EN
X-WR-TIMEZONE:Pacific/Auckland
X-WR-CALNAME:Upcoming Auctions
BEGIN:VEVENT
UID:132860
DTSTAMP:20250911T170000
DTSTART:20250911T170000
DTEND:20250918T180000
SUMMARY:Police & Others Auction 18.9.2025 TH132860
LOCATION:Thornton Auctions - 50 Fairfax Avenue\, Penrose\, Auckland\, AK
  1060\, NZ
DESCRIPTION:A motorbike\, golf clubs\, tools\, tech\, jewellery\, toys\, cloth
 ing—always a massive mix and plenty to bid on. Register an
 d bid now. Viewing at our auction house on Thursday.
URL:https://www.thorntons.net.nz/auctions/detail/bw132860
SEQUENCE:1
END:VEVENT
END:VCALENDAR