BEGIN:VCALENDAR
VERSION:2.0
PRODID:-//ExpressionEngine Easy iCalendar plugin//NONSGML v2.0.0//EN
X-WR-TIMEZONE:Pacific/Auckland
X-WR-CALNAME:Upcoming Auctions
BEGIN:VEVENT
UID:132864
DTSTAMP:20251009T163000
DTSTART:20251009T163000
DTEND:20251014T180000
SUMMARY:General Goods Auction 14.10.25 TU132864
LOCATION:{location}
DESCRIPTION:General Goods Auction – Must-Clear Stock AUCTION FEATURE: 
 FIBA-approved indoor basketball hoop worth over $40k new! Hu
 ndreds of items online – VIEWING FRIDAY OCTOBER 10th or b
 y appointment – please email or call – Phone: 09 622 19
 63 Email: enquiries@thorntons.net.nz A wide range of new an
 d used products are up for grabs: food and beverages\, toys\, 
 trinkets\, household items\, whiteware\, DIY gear\, and much mor
 e. Everything must go — don’t miss your chance to grab a
  bargain.
URL:https://www.thorntons.net.nz/auctions/detail/bw132864
SEQUENCE:1
END:VEVENT
END:VCALENDAR