BEGIN:VCALENDAR
VERSION:2.0
PRODID:-//ExpressionEngine Easy iCalendar plugin//NONSGML v2.0.0//EN
X-WR-TIMEZONE:Pacific/Auckland
X-WR-CALNAME:Upcoming Auctions
BEGIN:VEVENT
UID:132865
DTSTAMP:20250905T180000
DTSTART:20250905T180000
DTEND:20250911T180000
SUMMARY:DIY & Tools Auction 11.9.2025 - TH132865
LOCATION:50 Fairfax Ave\, Penrose\, Auckland\, AU 2105\, NZ
DESCRIPTION:Tool Auction Incoming! We’ve got so many tools\, in our las
 test massive auction — perfect for tradies and DIY enthu
 siasts alike! New & Used Gear Galore Power tools\, nuts & bol
 ts\, work benches\, gardening gear\, jacks\, hand tools\, toolbox
 es — the list goes on! Auction Closes Thursday\, Sept 11 Co
 me and view the items in person at our auction rooms on the
  day the auction closes. All items will be available online 
 for bidding — don’t miss out! #AuctionLife #Auction #To
 ols #DIY #TradieGear
URL:https://www.thorntons.net.nz/auctions/detail/bw132865
SEQUENCE:1
END:VEVENT
END:VCALENDAR