BEGIN:VCALENDAR
VERSION:2.0
PRODID:-//ExpressionEngine Easy iCalendar plugin//NONSGML v2.0.0//EN
X-WR-TIMEZONE:Pacific/Auckland
X-WR-CALNAME:Upcoming Auctions
BEGIN:VEVENT
UID:132881
DTSTAMP:20250926T180000
DTSTART:20250926T180000
DTEND:20251002T180000
SUMMARY:Police & Others Auction 2.10.2025 TH132881
LOCATION:Thornton Auctions - 50 Fairfax Avenue\, Penrose\, Auckland\, AK
  1060\, NZ
DESCRIPTION:Police & General Auction – It’s On! Tech\, jewellery\, toy
 s\, tools\, clothing—you name it\, it’s probably in the mix
 . Huge variety\, unbeatable deals you won’t want to miss!
URL:https://www.thorntons.net.nz/auctions/detail/bw132881
SEQUENCE:1
END:VEVENT
END:VCALENDAR