BEGIN:VCALENDAR
VERSION:2.0
PRODID:-//ExpressionEngine Easy iCalendar plugin//NONSGML v2.0.0//EN
X-WR-TIMEZONE:Pacific/Auckland
X-WR-CALNAME:Upcoming Auctions
BEGIN:VEVENT
UID:132882
DTSTAMP:20250927T084100
DTSTART:20250927T084100
DTEND:20251009T180000
SUMMARY:IT\, Lighting & Electrical Auction 9.10.25 TH132882
LOCATION:Thornton Auctions - 50 Fairfax Avenue\, Penrose\, Auckland\, AK
  1060\, NZ
DESCRIPTION:100% online go go go! This auction includes an Industrial 
 UPS\, a large amount of marine electronics\, a lot of lighting
 \, a few TV3 / Newshub IT and broadcast items and more.
URL:https://www.thorntons.net.nz/auctions/detail/bw132882
SEQUENCE:1
END:VEVENT
END:VCALENDAR