BEGIN:VCALENDAR
VERSION:2.0
PRODID:-//ExpressionEngine Easy iCalendar plugin//NONSGML v2.0.0//EN
X-WR-TIMEZONE:Pacific/Auckland
X-WR-CALNAME:Upcoming Auctions
BEGIN:VEVENT
UID:132884
DTSTAMP:20251022T120000
DTSTART:20251022T120000
DTEND:20251030T180000
SUMMARY:Alcohol & General Goods Auction 30.10.25 TU132884
LOCATION:{location}
DESCRIPTION:Alcohol & General Goods Auction – Must-Clear Stock Top up 
 your tipples post Labour Weekend\, and pick up some great gen
 eral goods. A wide range of new and used products are up for
  grabs: food and beverages\, toys\, trinkets\, household items\,
  whiteware\, DIY gear\, and much more. Everything must go — 
 don’t miss your chance to grab a bargain. VIEWING THURSDAY
 S & FRIDAYS\, or by appointment.  Phone: 09 622 1963 Email:
  enquiries@thorntons.net.nz
URL:https://www.thorntons.net.nz/auctions/detail/bw132884
SEQUENCE:1
END:VEVENT
END:VCALENDAR