BEGIN:VCALENDAR
VERSION:2.0
PRODID:-//ExpressionEngine Easy iCalendar plugin//NONSGML v2.0.0//EN
X-WR-TIMEZONE:Pacific/Auckland
X-WR-CALNAME:Upcoming Auctions
BEGIN:VEVENT
UID:132887
DTSTAMP:20251018T180000
DTSTART:20251018T180000
DTEND:20251023T180000
SUMMARY:Police & Others Auction 23.10.2025 TH132887
LOCATION:Thornton Auctions - 50 Fairfax Avenue\, Penrose\, Auckland\, AK
  1060\, NZ
DESCRIPTION:Police & General Auction – It’s On! Tech\, jewellery\, toy
 s\, tools\, clothing—you name it\, it’s probably in the mix
 . Huge variety\, unbeatable deals you won’t want to miss! R
 egister now and we’ll alert you the moment its fully loade
 d and live. 
URL:https://www.thorntons.net.nz/auctions/detail/bw132887
SEQUENCE:1
END:VEVENT
END:VCALENDAR