BEGIN:VCALENDAR
VERSION:2.0
PRODID:-//ExpressionEngine Easy iCalendar plugin//NONSGML v2.0.0//EN
X-WR-TIMEZONE:Pacific/Auckland
X-WR-CALNAME:Upcoming Auctions
BEGIN:VEVENT
UID:132926
DTSTAMP:20251031T180000
DTSTART:20251031T180000
DTEND:20251106T180000
SUMMARY:Police & Others Auction 6.11.2025 TH132926
LOCATION:Thornton Auctions - 50 Fairfax Avenue\, Penrose\, Auckland\, AK
  1060\, NZ
DESCRIPTION:FULLY LOADED & LIVE! Police & General Auction – It’s On!
  Tech\, jewellery\, toys\, tools\, clothing—you name it\, it’
 s probably in the mix. Huge variety\, unbeatable deals you wo
 n’t want to miss!
URL:https://www.thorntons.net.nz/auctions/detail/bw132926
SEQUENCE:1
END:VEVENT
END:VCALENDAR