BEGIN:VCALENDAR
VERSION:2.0
PRODID:-//ExpressionEngine Easy iCalendar plugin//NONSGML v2.0.0//EN
X-WR-TIMEZONE:Pacific/Auckland
X-WR-CALNAME:Upcoming Auctions
BEGIN:VEVENT
UID:132961
DTSTAMP:20251205T160000
DTSTART:20251205T160000
DTEND:20260121T110000
SUMMARY:Remuera Villa Estate 21.1.26 OS132961
LOCATION:11 Seaview Road\, Auckland\, AU 1050\, NZ
DESCRIPTION:AUCTION UPDATE: Now a timed online auction event at the sit
 e with a great selection of exceptional items. Featuring fu
 rnishings\, period furniture\, unique collectables\, tools\, an
 d household pieces that perfectly complement the character 
 of the period villa they currently call home. ONSITE VIEWING
 : On the day of the auction from 9:15am through to 1pm\, or 
 by appointment.  Video call viewing can be arranged – con
 tact us for more info. AUCTION DATE: Online viewing and bidd
 ing are open now.  COLLECTION: Tuesday\, January 27th\, 10am
  - 4:30pm\, book via our website\, www.thorntons.net.nz.
URL:https://www.thorntons.net.nz/auctions/detail/bw132961
SEQUENCE:1
END:VEVENT
END:VCALENDAR