BEGIN:VCALENDAR
VERSION:2.0
PRODID:-//ExpressionEngine Easy iCalendar plugin//NONSGML v2.0.0//EN
X-WR-TIMEZONE:Pacific/Auckland
X-WR-CALNAME:Upcoming Auctions
BEGIN:VEVENT
UID:132971
DTSTAMP:20251220T100000
DTSTART:20251220T100000
DTEND:20260114T180000
SUMMARY:Tuakau Farm Auction  14.1.26 OS132971
LOCATION:364 Dominion Road\, Tuakau \, WK 2121\, NZ
DESCRIPTION:The farm has been sold\, the move is on\, and the farm\, worksh
 op\, and everything must be cleared! MORE ITEMS TO COME\, BUT 
 ENJOY BIDDING ON THIS INITIAL TASTER Farm and engineering ma
 chinery\, from welders to insulated wall panels\, furniture to
  a digger claw\, Hi-Ab attachments\, and plenty more. VIEWING
  – On the day of the auction – Wednesday\, January 14th\, 
 from 10am to 1pm. AUCTION ENDS - 14/1/2026 6PM COLLECTION O
 F ITEMS - Tuesday\, January 20th\, 10:30am - 4pm
URL:https://www.thorntons.net.nz/auctions/detail/bw132971
SEQUENCE:1
END:VEVENT
END:VCALENDAR