BEGIN:VCALENDAR
VERSION:2.0
PRODID:-//ExpressionEngine Easy iCalendar plugin//NONSGML v2.0.0//EN
X-WR-TIMEZONE:Pacific/Auckland
X-WR-CALNAME:Upcoming Auctions
BEGIN:VEVENT
UID:132977
DTSTAMP:20251224T150000
DTSTART:20251224T150000
DTEND:20260115T180000
SUMMARY:Police & Others Auction 15.01.26 TH132977
LOCATION:{location}
DESCRIPTION:Don’t Miss Our First Police & Others Auction of 2026! From
  tech and jewellery to toys\, tools\, and clothing—there’s
  something for everyone. A massive variety and unbeatable de
 als you won’t want to miss!  
URL:https://www.thorntons.net.nz/auctions/detail/bw132977
SEQUENCE:1
END:VEVENT
END:VCALENDAR