BEGIN:VCALENDAR
VERSION:2.0
PRODID:-//ExpressionEngine Easy iCalendar plugin//NONSGML v2.0.0//EN
X-WR-TIMEZONE:Pacific/Auckland
X-WR-CALNAME:Upcoming Auctions
BEGIN:VEVENT
UID:132989
DTSTAMP:20260114T103000
DTSTART:20260114T103000
DTEND:20260120T180000
SUMMARY:Tools Auction 20.01.2026 - TU132989
LOCATION:50 Fairfax Ave\, Penrose\, Auckland\, AU 2105\, NZ
DESCRIPTION:Tool Auction Incoming! Weâ€™ve got so many tools inÂ our lat
 estÂ massive auctionâ€”perfect for tradies and DIY enthusias
 ts alike! New & Used Gear Galore Power tools\, nuts & bolts\, 
 workbenches\, gardening gear\, jacks\, hand tools\, toolboxes â€
 ” the list goes on! Auction Closes Tuesday\, 20.01.26 Come an
 d view the items in personÂ at our auction rooms on Friday J
 anuary 16th or by arrangement.Â  All items will be available
  online for biddingÂ â€” donâ€™t miss out! #AuctionLife #Auc
 tion #Tools #DIY #TradieGear
URL:https://www.thorntons.net.nz/auctions/detail/bw132989
SEQUENCE:1
END:VEVENT
END:VCALENDAR